Workbook
Name sinseusyo: '[1]その他参考事項（PDF）'!#REF!
Name sinseusyo: '[1]その他参考事項（PDF）'!#REF!
Name sinseusyo: '[1]その他参考事項（PDF）'!#REF!

Sheet 申請書（建設工事）
A1: 様式 １ | U1: 受付番号
A3: 申請区分 | F3: １:新規 ２:更新 | AG3: 1
A4: 申 請 日 | E4: 令和 年 月 日 | AG4: 2
A6: 一般競争（指名競争）入札参加資格審査申請書［建設工事］
A8: 塩谷広域行政組合 管理者 様
A10: 令和９・10年度の塩谷広域行政組合が発注する建設工事に係る入札等に参加したいので、指定の書類を添えて申請します。 なお、申請にあたり、以下のことについて誓約します。 ① 申請書及び添付書類の内容については、事実と相違ありません。 ② 地方自治法施行令第167条の４に該当しません。
A15: 申請者（代表者） | B15: ふりがな
B16: 商号又は名称
B17: ふりがな | X17: 代表者印(実印)
B18: 代表者役職 | F18: 氏名
B19: 本社(本店)所在地又は住所 | H19: 〒 | K19: － | O19: 都道府県名
B21: 電話番号 | Q21: ＦＡＸ番号
B22: Ｅ－ｍａｉｌ
A24: 受任者の有無 | G24: １:置いている ２:置いていない | AF24: 1
A25: ※受任者を置く場合のみ、下記受任者欄を記入し、委任状(様式2)を添付すること。 | AF25: 2
A26: 受任者 | B26: ふりがな
B27: 営業所等名称
B28: ふりがな
B29: 受任者役職 | F29: 氏名
B30: 営業所等所在地又は住所 | H30: 〒 | K30: － | O30: 都道府県名
B32: 電話番号 | Q32: ＦＡＸ番号
A34: この申請についての問合せ先
A35: 連絡先住所 | H35: 〒 | K35: － | O35: 都道府県名
A37: 担当部署 | O37: ふりがな
O38: 担当者氏名
A39: 電話番号 | O39: ＦＡＸ番号
A44: 希望工種 | E44: ※希望する工種は、プルダウンから「○」を選択する。 | AF44: ○
A45: 土木一式 | B45: 建築一式 | C45: 大工 | D45: 左官 | E45: とび・土工・ コンクリート | F45: 石 | G45: 屋根 | H45: 電気 | I45: 管 | J45: タイル・レンガ・ブロック | K45: 鋼構造物 | L45: 鉄筋 | M45: 舗装 | N45: しゅんせつ | O45: 板金 | P45: ガラス | Q45: 塗装 | R45: 防水 | S45: 内装仕上 | T45: 機械器具設置 | U45: 熱絶縁 | V45: 電気通信 | W45: 造園 | X45: さく井 | Y45: 建具 | Z45: 水道施設 | AA45: 消防施設 | AB45: 清掃施設 | AC45: 解体
A48: 経営事項審査 審査基準日
A50: 社会保険加入 | G50: 雇用保険 | N50: 健康保険 | U50: 厚生年金保険
G51: 1:加入有り 2:適用除外 3:加入していない
AG52: 1
A53: 栃木県入札参加資格登録 | H53: 1：登録している 2：登録していない | AG53: 2
F54: ※「登録している」の場合、栃木県一般競争（指名競争）入札参加資格及び格付決定通知書の写しを提出すること。 | AG54: 3

Sheet 記載例（建設工事）
A1: 様式 １ | H1: （記載例） | U1: 受付番号
AB2: 組合で記入するため記入しないこと↑
A3: 申請区分 | E3: 2 | F3: 1:新規 2:更新 | K3: ←令和７・８年度登録ありの場合は「２」、未登録の場合は「１」を記入 | AG3: 1
A4: 申 請 日 | E4: 令和8年12月1日 | AG4: 2
B5: ↑提出日（郵送の場合は書類発送日）を記入すること
A6: 一般競争（指名競争）入札参加資格審査申請書［建設工事］
A8: 塩谷広域行政組合 管理者 様
A9: 郵便番号、電話（FAX）番号、住所等の数字はすべて半角で入力すること
A10: 令和９・10年度の塩谷広域行政組合が発注する建設工事に係る入札等に参加したいので、指定の書類を添えて申請します。 なお、申請にあたり、以下のことについて誓約します。 ① 申請書及び添付書類の内容については、事実と相違ありません。 ② 地方自治法施行令第167条の４に該当しません。
A14: ↓申請者（代表者）欄は、必ず記入すること
A15: 申請者（代表者） | B15: ふりがな | H15: こういきけんせつ
B16: 商号又は名称 | H16: 広域建設（株）
B17: ふりがな | H17: だいひょうとりしまりやく | O17: こういき たろう | X17: 代表者印(実印)
B18: 代表者役職 | F18: 氏名 | H18: 代表取締役社長 | O18: 広域 太郎
B19: 本社(本店)所在地又は住所 | H19: 〒 | I19: 123 | K19: － | L19: 4567 | O19: 都道府県名 | S19: 東京都
H20: 千代田区本町1234-56 広域ビル5F
B21: 電話番号 | H21: 03-1234-5678 | Q21: ＦＡＸ番号 | V21: 03-9876-5432
B22: Ｅ－ｍａｉｌ | H22: kouikikensetu@sample.ne.jp
A24: 受任者の有無 | F24: 1 | G24: １:置いている ２:置いていない | AF24: 1
A25: ※受任者を置く場合のみ、下記受任者欄を記入し、委任状(様式2)を添付すること。 | AF25: 2
A26: 受任者 | B26: ふりがな | H26: やいたしてん
B27: 営業所等名称 | H27: 矢板支店
B28: ふりがな | H28: してんちょう | S28: こういき じろう
B29: 受任者役職 | F29: 氏名 | H29: 支店長 | S29: 広域 次郎
B30: 営業所等所在地 又は住所 | H30: 〒 | I30: 329 | K30: － | L30: 1572 | O30: 都道府県名 | T30: 栃木県
H31: 矢板市安沢3622-1
B32: 電話番号 | H32: 0287-48-2066 | Q32: ＦＡＸ番号 | V32: 0287-48-8010
A33: ↑受任者欄は、受任者を置く場合のみ記入すること
A34: この申請についての問合せ先
A35: 連絡先住所 | H35: 〒 | I35: 329 | K35: － | L35: 1572 | O35: 都道府県名 | U35: 栃木県
H36: 矢板市安沢3622-1
A37: 担当部署 | H37: 総務課 | O37: ふりがな | U37: こういき はなこ
O38: 担当者氏名 | U38: 広域 花子
A39: 電話番号 | H39: 0287-48-2066 | O39: ＦＡＸ番号 | U39: 0287-48-8010
B40: ↑代表者や個人事業主が申請担当者となる場合でも、必ず記入すること。
A44: 希望工種 | E44: ※希望する工種は、プルダウンから「○」を選択する。 | AF44: ○
A45: 土木一式 | B45: 建築一式 | C45: 大工 | D45: 左官 | E45: とび・土工・ コンクリート | F45: 石 | G45: 屋根 | H45: 電気 | I45: 管 | J45: タイル・レンガ・ブロック | K45: 鋼構造物 | L45: 鉄筋 | M45: 舗装 | N45: しゅんせつ | O45: 板金 | P45: ガラス | Q45: 塗装 | R45: 防水 | S45: 内装仕上 | T45: 機械器具設置 | U45: 熱絶縁 | V45: 電気通信 | W45: 造園 | X45: さく井 | Y45: 建具 | Z45: 水道施設 | AA45: 消防施設 | AB45: 清掃施設 | AC45: 解体
A46: ○ | B46: ○ | AC46: ○
A47: ↑ 経営事項審査を受けている工種で、申請する工種に「○」を記入
A48: 経営事項審査 審査基準日 | F48: 44895 | M48: ←書式設定は変更しないこと
...

Sheet 法人略号
A1: 「商号又は名称」の欄の法人の種類を表す文字については、(株)、(有)等、次の略号を用いて記入してください。
A3: 種類 | B3: 略号 | C3: 種類 | D3: 略号 | E3: 種類 | F3: 略号
A4: 株式会社 | B4: （株） | C4: 企業組合 | D4: （企） | E4: 財団法人 | F4: （財）
A5: 有限会社 | B5: （有） | C5: 税理士法人 | D5: （税） | E5: 一般財団法人 | F5: （一財）
A6: 合資会社 | B6: （資） | C6: 行政書士法人 | D6: （行） | E6: 公益財団法人 | F6: （公財）
A7: 合同会社 | B7: （同） | C7: 医療法人 | D7: （医） | E7: 社団法人 | F7: （社）
A8: 合名会社 | B8: （名） | C8: 医療法人社団 | E8: 一般社団法人 | F8: （一社）
A9: 共同組合 | B9: （協組） | C9: 医療法人財団 | E9: 公益社団法人 | F9: （公社）
A10: 協業組合 | B10: （業） | C10: 社会福祉法人 | D10: （福） | E10: 特定非営利法人 | F10: （特非）

Sheet 転記（このシートはいじらないこと）
A1: このシートは全てリンクのため、いじらないこと！ | V1: 本日の日付⇒ | W1: =TODAY() -> 46314 | X1: 左：希望工種 右：県の格付け
A2: 受付日 | B2: 本社名称 | C2: 代表者役職 | D2: ふりがな | E2: 代表者氏名 | F2: 郵便番号 | I2: 本社住所 | K2: 電話番号 | L2: 営業所名称 | M2: 受任者役職 | N2: フリガナ | O2: 受任者氏名 | P2: 郵便番号 | S2: 受任者住所 | U2: 電話番号 | V2: 経審基準日 | W2: 経審有効期限 | X2: 土木 | Z2: 建築 | AB2: 大工 | AD2: 左官 | AF2: とび | AH2: 石 | AJ2: 屋根 | AL2: 電気 | AN2: 管 | AP2: タイル | AR2: 鋼構図物 | AT2: 鉄筋 | AV2: 舗装 | AX2: しゅんせつ | AZ2: 板金 | BB2: ガラス | BD2: 塗装 | BF2: 防水 | BH2: 内装 | BJ2: 機械器具 | BL2: 熱絶縁 | BN2: 電気通信 | BP2: 造園 | BR2: さく井 | BT2: 建具 | BV2: 水道施設 | BX2: 消防施設 | BZ2: 清掃施設 | CB2: 解体
A3: =CONCATENATE("令和",'申請書（建設工事）'!G4,"年",'申請書（建設工事）'!I4,"月",'申請書（建設工事）'!K4,"日") -> 令和年月日 | B3: ='申請書（建設工事）'!H16 -> 0 | C3: ='申請書（建設工事）'!H18 -> 0 | D3: ='申請書（建設工事）'!O17 -> 0 | E3: ='申請書（建設工事）'!O18 -> 0 | F3: ='申請書（建設工事）'!I19 -> 0 | G3: － | H3: ='申請書（建設工事）'!L19 -> 0 | I3: ='申請書（建設工事）'!S19 -> 0 | J3: ='申請書（建設工事）'!H20 -> 0 | K3: ='申請書（建設工事）'!H21 -> 0 | L3: ='申請書（建設工事）'!H27 -> 0 | M3: ='申請書（建設工事）'!H29 -> 0 | N3: ='申請書（建設工事）'!S28 -> 0 | O3: ='申請書（建設工事）'!S29 -> 0 | P3: ='申請書（建設工事）'!I30 -> 0 | Q3: － | R3: ='申請書（建設工事）'!L30 -> 0 | S3: ='申請書（建設工事）'!T30 -> 0 | T3: ='申請書（建設工事）'!H31 -> 0 | U3: ='申請書（建設工事）'!H32 -> 0 | V3: ='申請書（建設工事）'!F48 -> 0 | W3: =EDATE(V3,19) -> 578 | X3: =IF('申請書（建設工事）'!A46="○","○","") | Z3: =IF('申請書（建設工事）'!B46="○","○","") | AB3: =IF('申請書（建設工事）'!C46="○","○","") | AD3: =IF('申請書（建設工事）'!D46="○","○","") | AF3: =IF('申請書（建設工事）'!E46="○","○","") | AH3: =IF('申請書（建設工事）'!F46="○","○","") | AJ3: =IF('申請書（建設工事）'!G46="○","○","") | AL3: =IF('申請書（建設工事）'!H46="○","○","") | AN3: =IF('申請書（建設工事）'!I46="○","○","") | AP3: =IF('申請書（建設工事）'!J46="○","○","") | AR3: =IF('申請書（建設工事）'!K46="○","○","") | AT3: =IF('申請書（建設工事）'!L46="○","○","") | AV3: =IF('申請書（建設工事）'!M46="○","○","") | AX3: =IF('申請書（建設工事）'!N46="○","○","") | AZ3: =IF('申請書（建設工事）'!O46="○","○","") | BB3: =IF('申請書（建設工事）'!P46="○","○","") | BD3: =IF('申請書（建設工事）'!Q46="○","○","") | BF3: =IF('申請書（建設工事）'!R46="○","○","") | BH3: =IF('申請書（建設工事）'!S46="○","○","") | BJ3: =IF('申請書（建設工事）'!T46="○","○","") | BL3: =IF('申請書（建設工事）'!U46="○","○","") | BN3: =IF('申請書（建設工事）'!V46="○","○","") | BP3: =IF('申請書（建設工事）'!W46="○","○","") | BR3: =IF('申請書（建設工事）'!X46="○","○","") | BT3: =IF('申請書（建設工事）'!Y46="○","○","") | BV3: =IF('申請書（建設工事）'!Z46="○","○","") | BX3: =IF('申請書（建設工事）'!AA46="○","○","") | BZ3: =IF('申請書（建設工事）'!AB46="○","○","") | CB3: =IF('申請書（建設工事）'!AC46="○","○","")
