Workbook
Name sinseusyo: '[1]その他参考事項（PDF）'!#REF!
Name sinseusyo: '[1]その他参考事項（PDF）'!#REF!
Name sinseusyo: '[1]その他参考事項（PDF）'!#REF!

Sheet 申請書（物品）
A1: 様式 １ | R1: 登録番号
A3: 申請区分 | F3: １:新規 ２:更新 | AB3: 1
A4: 申 請 日 | E4: 令和 | H4: 年 | J4: 月 | L4: 日 | AB4: 2
A6: 一般競争（指名競争）入札参加資格審査申請書[物品納入・その他役務の提供]
A8: 塩谷広域行政組合 管理者 様
A10: 令和９・10年度の塩谷広域行政組合が発注する物品納入及び役務の提供に係る入札等に参加したいので、指定の書類を添えて申請します。 なお、申請にあたり、以下のことについて誓約します。 ① 申請書及び添付書類の内容については、事実と相違ありません。 ② 地方自治法施行令第167条の４に該当しません。
A15: 申請者（代表者） | B15: ふりがな
B16: 商号又は名称
B17: ふりがな | U17: 代表者印(実印)
B18: 代表者役職 | D18: 氏名
B19: 本社(本店)所在地又は住所 | F19: 〒 | I19: － | M19: 都道府県名
B21: 電話番号 | O21: ＦＡＸ番号
B22: Ｅ－ｍａｉｌ
A24: 受任者の有無 | G24: １:置いている ２:置いていない | AB24: 1
A25: ※受任者を置く場合のみ、下記受任者欄を記入し、委任状(様式2)を添付すること。 | AB25: 2
A26: 受任者 | B26: ふりがな
B27: 営業所等名称
B28: ふりがな
B29: 受任者役職 | D29: 氏名
B30: 営業所等所在地又は住所 | F30: 〒 | I30: － | M30: 都道府県名
B32: 電話番号 | O32: ＦＡＸ番号
A34: この申請についての問合せ先
A35: 連絡先住所 | E35: 〒 | H35: － | L35: 都道府県名
A37: 担当部署 | L37: ふりがな
L38: 担当者氏名
A39: 電話番号 | L39: ＦＡＸ番号
A41: ※希望業種は裏面に記載。
A43: 希望業種 | E43: ※希望する業種の欄に「○」を入力する。 | AA43: ○
B44: ⑴ 物品の製造・販売に関する分類
B45: 大分類 | F45: 小分類 | L45: 欄 | N45: 大分類 | R45: 小分類 | X45: 欄
B46: Ａ | C46: 事務用品 | F46: 1 | G46: 用紙・文具 | N46: Ｋ | O46: 日用品 | R46: 1 | S46: 日用雑貨、食品
F47: 2 | G47: 事務用機器 | R47: 2 | S47: 寝具
F48: 3 | G48: 事務用家具 | R48: 3 | S48: 家具・インテリア
F49: 4 | G49: 印章 | R49: 4 | S49: 被服・繊維
B50: Ｂ | C50: 印刷 | F50: 1 | G50: 一般印刷 | R50: 5 | S50: 消防用被服
F51: 2 | G51: 特殊印刷 | R51: 6 | S51: 百貨店商事
F52: 3 | G52: 地図印刷 | N52: Ｌ | O52: その他物品 | R52: 1 | S52: 消防用保安用品
F53: 4 | G53: 写真 | R53: 2 | S53: 災害用備品
B54: Ｃ | C54: 電気器具 | F54: 1 | G54: 電気製品 | R54: 3 | S54: 書籍
F55: 2 | G55: 通信機器 | R55: 4 | S55: 看板・展示品
F56: 3 | G56: 電気設備 | R56: 5 | S56: 標識
F57: 4 | G57: その他電気器具 | R57: 6 | S57: 宝飾
B58: Ｄ | C58: 機械器具 | F58: 1 | G58: 建設用機械 | R58: 7 | S58: き章等
F59: 2 | G59: 工作機械 | R59: 8 | S59: 農業用品
F60: 3 | G60: 農林業機械 | R60: 9 | S60: 電力
F61: 4 | G61: 厨房機器 | R61: 10 | S61: その他
F62: 5 | G62: その他機械器具
B63: Ｅ | C63: 精密機器 | F63: 1 | G63: 光学機器
F64: 2 | G64: 理化学機器
F65: 3 | G65: 計測機器
F66: 4 | G66: その他精密機器
B67: Ｆ | C67: 医療用器具・薬品 | F67: 1 | G67: 医療用機器
F68: 2 | G68: 介護用機器
F69: 3 | G69: 医療用薬品
B70: Ｇ | C70: 工業用薬品 | F70: 1 | G70: 工業用薬品
B71: Ｈ | C71: 車両 | F71: 1 | G71: 自動車
F72: 2 | G72: 二輪車
F73: 3 | G73: バス・トラック
F74: 4 | G74: 特殊用途自動車
F75: 5 | G75: 車両部品
B76: Ｉ | C76: 建築資材 | F76: 1 | G76: 砂利・セメント
F77: 2 | G77: 舗装材
F78: 3 | G78: 鉄鋼品
F79: 4 | G79: 一般建設資材
F80: 5 | G80: 建具等
F81: 6 | G81: 給排水・電気工事資材
F82: 7 | G82: 仮設資材
B83: Ｊ | C83: 燃料 | F83: 1 | G83: 石油製品
F84: 2 | G84: ガス
F85: 3 | G85: その他燃料
B87: ⑵ 役務の提供
B88: 大分類 | F88: 小分類 | L88: 欄 | N88: 大分類 | R88: 小分類 | X88: 欄
B89: Ｍ | C89: 廃棄物処理 | F89: 1 | G89: 資源回収・買受 | N89: Ｒ | O89: 計画策定・支援 | R89: 1 | S89: 計画策定・支援
F90: 2 | G90: 一般廃棄物 | R90: 2 | S90: 地方公会計
F91: 3 | G91: 産業廃棄物 | R91: 3 | S91: その他
F92: 4 | G92: その他 | N92: Ｓ | O92: 企画・制作 | R92: 1 | S92: 広告・宣伝
B93: Ｎ | C93: 施設管理 | F93: 1 | G93: 施設運転・運営管理 | R93: 2 | S93: デザイン企画
F94: 2 | G94: 施設清掃 | R94: 3 | S94: ビデオ制作・写真撮影
F95: 3 | G95: 害虫駆除 | R95: 4 | S95: ホームページ作成
F96: 4 | G96: 植栽管理 | R96: 5 | S96: イベント企画運営
F97: 5 | G97: その他 | R97: 6 | S97: 旅行
B98: Ｏ | C98: 警備・受付 | F98: 1 | G98: 有人警備 | N98: Ｔ | O98: 通信・情報処理 | R98: 1 | S98: システム開発
F99: 2 | G99: 機械警備 | R99: 2 | S99: PC関連保守点検
F100: 3 | G100: 受付・案内 | R100: 3 | S100: 通信サービス
F101: 4 | G101: その他 | N101: Ｕ | O101: リース・レンタル | R101: 1 | S101: 事務機器
B102: Ｐ | C102: 保守・管理 | F102: 1 | G102: 貯水槽 | R102: 2 | S102: 車両
F103: 2 | G103: 浄化槽 | R103: 3 | S103: 日用品
F104: 3 | G104: 電気・通信設備 | R104: 4 | S104: イベント用品
F105: 4 | G105: 空調・衛生設備 | R105: 5 | S105: 観葉植物
F106: 5 | G106: 消防設備 | R106: 6 | S106: その他賃貸借
F107: 6 | G107: 昇降機・自動ドア | N107: Ｖ | O107: その他業務 | R107: 1 | S107: 集団検診
F108: 7 | G108: 貯蔵所・タンク | R108: 2 | S108: 旅客運送
F109: 8 | G109: 車両関連 | R109: 3 | S109: 貨物運送
F110: 9 | G110: その他 | R110: 4 | S110: 人材派遣
B111: Ｑ | C111: 調査・測定 | F111: 1 | G111: 調査・分析 | R111: 5 | S111: クリーニング
F112: 2 | G112: 環境測定 | R112: 6 | S112: その他
F113: 3 | G113: その他

Sheet 記入例（物品）
A1: 様式 １ | F1: （記載例） | R1: 登録番号
W2: 組合で記入するため記入しないこと↑
A3: 申請区分 | E3: 2 | F3: １:新規 ２:更新 | K3: ←令和７・８年度登録ありの場合は「２」、未登録の場合は「１」を記入 | AB3: 1
A4: 申 請 日 | E4: 令和 | G4: 9 | H4: 年 | I4: 4 | J4: 月 | K4: 1 | L4: 日 | AB4: 2
B5: ↑提出日（郵送の場合は書類発送日）を記入すること
A6: 一般競争（指名競争）入札参加資格審査申請書[物品納入・その他役務の提供]
A8: 塩谷広域行政組合 管理者 様
A9: 郵便番号、電話（FAX）番号、住所等の数字はすべて半角で入力すること
A10: 令和９・10年度の塩谷広域行政組合が発注する物品納入及び役務の提供に係る入札等に参加 したいので、指定の書類を添えて申請します。 なお、申請にあたり、以下のことについて誓約します。 ① 申請書及び添付書類の内容については、事実と相違ありません。 ② 地方自治法施行令第167条の４に該当しません。
A14: ↓申請者（代表者）欄は、必ず記入すること
A15: 申請者（代表者） | B15: ふりがな | F15: こういきぶっぴんはんばい
B16: 商号又は名称 | F16: 広域物品販売（株）
B17: ふりがな | F17: だいひょうとりしまりやくしゃちょう | M17: こういき たろう | U17: 代表者印(実印)
B18: 代表者役職 | D18: 氏名 | F18: 代表取締役社長 | M18: 広域 太郎
B19: 本社(本店)所在地又は住所 | F19: 〒 | G19: 123 | I19: － | J19: 4567 | M19: 都道府県名 | Q19: 東京都
F20: 千代田区本町1234-56 広域ビル5Ｆ
B21: 電話番号 | F21: 03-1234-5678 | O21: ＦＡＸ番号 | S21: 03-9876-5432
B22: Ｅ－ｍａｉｌ | F22: kouikibuppin@sample.ne.jp
A24: 受任者の有無 | F24: 1 | G24: １:置いている ２:置いていない | AB24: 1
A25: ※受任者を置く場合のみ、下記受任者欄を記入し、委任状(様式2)を添付すること。 | AB25: 2
A26: 受任者 | B26: ふりがな | F26: やいたしてん
B27: 営業所等名称 | F27: 矢板支店
B28: ふりがな | F28: してんちょう | P28: こういき じろう
B29: 受任者役職 | D29: 氏名 | F29: 支店長 | P29: 広域 次郎
B30: 営業所等所在地又は住所 | F30: 〒 | G30: 329 | I30: － | J30: 1572 | M30: 都道府県名 | R30: 栃木県
F31: 矢板市安沢3622-1
B32: 電話番号 | F32: 0287-48-2066 | O32: ＦＡＸ番号 | S32: 0287-48-8010
A33: ↑受任者欄は、受任者を置く場合のみ記入すること
A34: この申請についての問合せ先
A35: 連絡先住所 | E35: 〒 | F35: 329 | H35: － | I35: 1572 | L35: 都道府県名 | P35: 栃木県
E36: 矢板市安沢3622-1
A37: 担当部署 | E37: 総務課 | L37: ふりがな | P37: こういき はなこ
L38: 担当者氏名 | P38: 広域 花子
A39: 電話番号 | E39: 0287-48-2066 | L39: ＦＡＸ番号 | P39: 0287-48-8010
B40: ↑代表者や個人事業主が申請担当者となる場合でも、必ず記入すること。
A41: ※希望業種は裏面に記載。
A43: 希望業種 | E43: ※希望する業種の欄に「○」を入力する。 | AA43: ○
B44: ⑴ 物品の製造・販売に関する分類
B45: 大分類 | F45: 小分類 | L45: 欄 | N45: 大分類 | R45: 小分類 | X45: 欄
B46: Ａ | C46: 事務用品 | F46: 1 | G46: 用紙・文具 | L46: ○ | N46: Ｋ | O46: 日用品 | R46: 1 | S46: 日用雑貨、食品
F47: 2 | G47: 事務用機器 | L47: ○ | R47: 2 | S47: 寝具
F48: 3 | G48: 事務用家具 | R48: 3 | S48: 家具・インテリア
F49: 4 | G49: 印章 | R49: 4 | S49: 被服・繊維
B50: Ｂ | C50: 印刷 | F50: 1 | G50: 一般印刷 | R50: 5 | S50: 消防用被服
F51: 2 | G51: 特殊印刷 | R51: 6 | S51: 百貨店商事
F52: 3 | G52: 地図印刷 | N52: Ｌ | O52: その他物品 | R52: 1 | S52: 消防用保安用品
F53: 4 | G53: 写真 | R53: 2 | S53: 災害用備品
B54: Ｃ | C54: 電気器具 | F54: 1 | G54: 電気製品 | R54: 3 | S54: 書籍 | X54: ○
F55: 2 | G55: 通信機器 | R55: 4 | S55: 看板・展示品
F56: 3 | G56: 電気設備 | R56: 5 | S56: 標識
F57: 4 | G57: その他電気器具 | R57: 6 | S57: 宝飾
B58: Ｄ | C58: 機械器具 | F58: 1 | G58: 建設用機械 | R58: 7 | S58: き章等
F59: 2 | G59: 工作機械 | R59: 8 | S59: 農業用品
F60: 3 | G60: 農林業機械 | R60: 9 | S60: 電力
F61: 4 | G61: 厨房機器 | R61: 10 | S61: その他
F62: 5 | G62: その他機械器具
B63: Ｅ | C63: 精密機器 | F63: 1 | G63: 光学機器
F64: 2 | G64: 理化学機器
F65: 3 | G65: 計測機器
F66: 4 | G66: その他精密機器
B67: Ｆ | C67: 医療用器具・薬品 | F67: 1 | G67: 医療用機器
F68: 2 | G68: 介護用機器
F69: 3 | G69: 医療用薬品
B70: Ｇ | C70: 工業用薬品 | F70: 1 | G70: 工業用薬品
B71: Ｈ | C71: 車両 | F71: 1 | G71: 自動車
F72: 2 | G72: 二輪車
F73: 3 | G73: バス・トラック
F74: 4 | G74: 特殊用途自動車
F75: 5 | G75: 車両部品
B76: Ｉ | C76: 建築資材 | F76: 1 | G76: 砂利・セメント
F77: 2 | G77: 舗装材
F78: 3 | G78: 鉄鋼品
F79: 4 | G79: 一般建設資材
F80: 5 | G80: 建具等
F81: 6 | G81: 給排水・電気工事資材
F82: 7 | G82: 仮設資材
B83: Ｊ | C83: 燃料 | F83: 1 | G83: 石油製品
F84: 2 | G84: ガス
F85: 3 | G85: その他燃料
B87: ⑵ 役務の提供
B88: 大分類 | F88: 小分類 | L88: 欄 | N88: 大分類 | R88: 小分類 | X88: 欄
B89: Ｍ | C89: 廃棄物処理 | F89: 1 | G89: 資源回収・買受 | N89: Ｒ | O89: 計画策定・支援 | R89: 1 | S89: 計画策定・支援
F90: 2 | G90: 一般廃棄物 | R90: 2 | S90: 地方公会計
F91: 3 | G91: 産業廃棄物 | R91: 3 | S91: その他
F92: 4 | G92: その他 | N92: Ｓ | O92: 企画・制作 | R92: 1 | S92: 広告・宣伝
B93: Ｎ | C93: 施設管理 | F93: 1 | G93: 施設運転・運営管理 | R93: 2 | S93: デザイン企画
F94: 2 | G94: 施設清掃 | R94: 3 | S94: ビデオ制作・写真撮影
F95: 3 | G95: 害虫駆除 | R95: 4 | S95: ホームページ作成
F96: 4 | G96: 植栽管理 | R96: 5 | S96: イベント企画運営
F97: 5 | G97: その他 | R97: 6 | S97: 旅行
B98: Ｏ | C98: 警備・受付 | F98: 1 | G98: 有人警備 | N98: Ｔ | O98: 通信・情報処理 | R98: 1 | S98: システム開発
F99: 2 | G99: 機械警備 | R99: 2 | S99: PC関連保守点検
F100: 3 | G100: 受付・案内 | R100: 3 | S100: 通信サービス
F101: 4 | G101: その他 | N101: Ｕ | O101: リース・レンタル | R101: 1 | S101: 事務機器
B102: Ｐ | C102: 保守・管理 | F102: 1 | G102: 貯水槽 | R102: 2 | S102: 車両
F103: 2 | G103: 浄化槽 | R103: 3 | S103: 日用品
F104: 3 | G104: 電気・通信設備 | R104: 4 | S104: イベント用品
F105: 4 | G105: 空調・衛生設備 | R105: 5 | S105: 観葉植物
F106: 5 | G106: 消防設備 | R106: 6 | S106: その他賃貸借
F107: 6 | G107: 昇降機・自動ドア | N107: Ｖ | O107: その他業務 | R107: 1 | S107: 集団検診
...

Sheet 法人略号
A1: 「商号又は名称」の欄の法人の種類を表す文字については、(株)、(有)等、次の略号を用いて記入してください。
A3: 種類 | B3: 略号 | C3: 種類 | D3: 略号 | E3: 種類 | F3: 略号
A4: 株式会社 | B4: （株） | C4: 企業組合 | D4: （企） | E4: 財団法人 | F4: （財）
A5: 有限会社 | B5: （有） | C5: 税理士法人 | D5: （税） | E5: 一般財団法人 | F5: （一財）
A6: 合資会社 | B6: （資） | C6: 行政書士法人 | D6: （行） | E6: 公益財団法人 | F6: （公財）
A7: 合同会社 | B7: （同） | C7: 医療法人 | D7: （医） | E7: 社団法人 | F7: （社）
A8: 合名会社 | B8: （名） | C8: 医療法人社団 | E8: 一般社団法人 | F8: （一社）
A9: 共同組合 | B9: （協組） | C9: 医療法人財団 | E9: 公益社団法人 | F9: （公社）
A10: 協業組合 | B10: （業） | C10: 社会福祉法人 | D10: （福） | E10: 特定非営利法人 | F10: （特非）

Sheet 転記（入力不要）
A1: このシートは入力不要です！
A2: 受付日 | B2: 本社名称 | C2: 代表者役職 | D2: ふりがな | E2: 代表者氏名 | F2: 郵便番号 | I2: 本社住所 | K2: 電話番号 | L2: 営業所名称 | M2: 受任者役職 | N2: フリガナ | O2: 受任者氏名 | P2: 郵便番号 | S2: 受任者住所 | U2: 電話番号 | V2: A1 | W2: A2 | X2: A3 | Y2: A4 | Z2: B1 | AA2: B2 | AB2: B3 | AC2: B4 | AD2: C1 | AE2: C2 | AF2: C3 | AG2: C4 | AH2: D1 | AI2: D2 | AJ2: D3 | AK2: D4 | AL2: D5 | AM2: E1 | AN2: E2 | AO2: E3 | AP2: E4 | AQ2: F1 | AR2: F2 | AS2: F3 | AT2: G1 | AU2: H1 | AV2: H2 | AW2: H3 | AX2: H4 | AY2: H5 | AZ2: I1 | BA2: I2 | BB2: I3 | BC2: I4 | BD2: I5 | BE2: I6 | BF2: I7 | BG2: J1 | BH2: J2 | BI2: J3 | BJ2: K1 | BK2: K2 | BL2: K3 | BM2: K4 | BN2: K5 | BO2: K6 | BP2: L1 | BQ2: L2 | BR2: L3 | BS2: L4 | BT2: L5 | BU2: L6 | BV2: L7 | BW2: L8 | BX2: L9 | BY2: L10 | BZ2: M1 | CA2: M2 | CB2: M3 | CC2: M4 | CD2: N1 | CE2: N2 | CF2: N3 | CG2: N4 | CH2: N5 | CI2: O1 | CJ2: O2 | CK2: O3 | CL2: O4 | CM2: P1 | CN2: P2 | CO2: P3 | CP2: P4 | CQ2: P5 | CR2: P6 | CS2: P7 | CT2: P8 | CU2: P9 | CV2: Q1 | CW2: Q2 | CX2: Q3 | CY2: R1 | CZ2: R2 | DA2: R3 | DB2: S1 | DC2: S2 | DD2: S3 | DE2: S4 | DF2: S5 | DG2: S6 | DH2: T1 | DI2: T2 | DJ2: T3 | DK2: U1 | DL2: U2 | DM2: U3 | DN2: U4 | DO2: U5 | DP2: U6 | DQ2: V1 | DR2: V2 | DS2: V3 | DT2: V4 | DU2: V5 | DV2: V6
A3: =CONCATENATE("令和",'申請書（物品）'!G4,"年",'申請書（物品）'!I4,"月",'申請書（物品）'!K4,"日") -> 令和年月日 | B3: ='申請書（物品）'!F16 -> 0 | C3: ='申請書（物品）'!F18 -> 0 | D3: ='申請書（物品）'!M17 -> 0 | E3: ='申請書（物品）'!M18 -> 0 | F3: ='申請書（物品）'!G19 -> 0 | G3: － | H3: ='申請書（物品）'!J19 -> 0 | I3: ='申請書（物品）'!Q19 -> 0 | J3: ='申請書（物品）'!F20 -> 0 | K3: ='申請書（物品）'!F21 -> 0 | L3: ='申請書（物品）'!F27 -> 0 | M3: ='申請書（物品）'!F29 -> 0 | N3: ='申請書（物品）'!P28 -> 0 | O3: ='申請書（物品）'!P29 -> 0 | P3: ='申請書（物品）'!G30 -> 0 | Q3: － | R3: ='申請書（物品）'!J30 -> 0 | S3: ='申請書（物品）'!R30 -> 0 | T3: ='申請書（物品）'!F31 -> 0 | U3: ='申請書（物品）'!F32 -> 0 | V3: =IF('申請書（物品）'!$L$46="○","○","") | W3: =IF('申請書（物品）'!$L$47="○","○","") | X3: =IF('申請書（物品）'!$L$48="○","○","") | Y3: =IF('申請書（物品）'!$L$49="○","○","") | Z3: =IF('申請書（物品）'!$L$50="○","○","") | AA3: =IF('申請書（物品）'!$L$51="○","○","") | AB3: =IF('申請書（物品）'!$L$52="○","○","") | AC3: =IF('申請書（物品）'!$L$53="○","○","") | AD3: =IF('申請書（物品）'!$L$54="○","○","") | AE3: =IF('申請書（物品）'!$L$55="○","○","") | AF3: =IF('申請書（物品）'!$L$56="○","○","") | AG3: =IF('申請書（物品）'!$L$57="○","○","") | AH3: =IF('申請書（物品）'!$L$58="○","○","") | AI3: =IF('申請書（物品）'!$L$59="○","○","") | AJ3: =IF('申請書（物品）'!$L$60="○","○","") | AK3: =IF('申請書（物品）'!$L$61="○","○","") | AL3: =IF('申請書（物品）'!$L$62="○","○","") | AM3: =IF('申請書（物品）'!$L$63="○","○","") | AN3: =IF('申請書（物品）'!$L$64="○","○","") | AO3: =IF('申請書（物品）'!$L$65="○","○","") | AP3: =IF('申請書（物品）'!$L$66="○","○","") | AQ3: =IF('申請書（物品）'!$L$67="○","○","") | AR3: =IF('申請書（物品）'!$L$68="○","○","") | AS3: =IF('申請書（物品）'!$L$69="○","○","") | AT3: =IF('申請書（物品）'!$L$70="○","○","") | AU3: =IF('申請書（物品）'!$L$71="○","○","") | AV3: =IF('申請書（物品）'!$L$72="○","○","") | AW3: =IF('申請書（物品）'!$L$73="○","○","") | AX3: =IF('申請書（物品）'!$L$74="○","○","") | AY3: =IF('申請書（物品）'!$L$75="○","○","") | AZ3: =IF('申請書（物品）'!$L$76="○","○","") | BA3: =IF('申請書（物品）'!$L$77="○","○","") | BB3: =IF('申請書（物品）'!$L$78="○","○","") | BC3: =IF('申請書（物品）'!$L$79="○","○","") | BD3: =IF('申請書（物品）'!$L$80="○","○","") | BE3: =IF('申請書（物品）'!$L$81="○","○","") | BF3: =IF('申請書（物品）'!$L$82="○","○","") | BG3: =IF('申請書（物品）'!$L$83="○","○","") | BH3: =IF('申請書（物品）'!$L$84="○","○","") | BI3: =IF('申請書（物品）'!$L$85="○","○","") | BJ3: =IF('申請書（物品）'!$X$46="○","○","") | BK3: =IF('申請書（物品）'!$X$47="○","○","") | BL3: =IF('申請書（物品）'!$X$48="○","○","") | BM3: =IF('申請書（物品）'!$X$49="○","○","") | BN3: =IF('申請書（物品）'!$X$50="○","○","") | BO3: =IF('申請書（物品）'!$X$51="○","○","") | BP3: =IF('申請書（物品）'!$X$52="○","○","") | BQ3: =IF('申請書（物品）'!$X$53="○","○","") | BR3: =IF('申請書（物品）'!$X$54="○","○","") | BS3: =IF('申請書（物品）'!$X$55="○","○","") | BT3: =IF('申請書（物品）'!$X$56="○","○","") | BU3: =IF('申請書（物品）'!$X$57="○","○","") | BV3: =IF('申請書（物品）'!$X$58="○","○","") | BW3: =IF('申請書（物品）'!$X$59="○","○","") | BX3: =IF('申請書（物品）'!$X$60="○","○","") | BY3: =IF('申請書（物品）'!$X$61="○","○","") | BZ3: =IF('申請書（物品）'!$L$89="○","○","") | CA3: =IF('申請書（物品）'!$L$90="○","○","") | CB3: =IF('申請書（物品）'!$L$91="○","○","") | CC3: =IF('申請書（物品）'!$L$92="○","○","") | CD3: =IF('申請書（物品）'!$L$93="○","○","") | CE3: =IF('申請書（物品）'!$L$94="○","○","") | CF3: =IF('申請書（物品）'!$L$95="○","○","") | CG3: =IF('申請書（物品）'!$L$96="○","○","") | CH3: =IF('申請書（物品）'!$L$97="○","○","") | CI3: =IF('申請書（物品）'!$L$98="○","○","") | CJ3: =IF('申請書（物品）'!$L$99="○","○","") | CK3: =IF('申請書（物品）'!$L$100="○","○","") | CL3: =IF('申請書（物品）'!$L$101="○","○","") | CM3: =IF('申請書（物品）'!$L$102="○","○","") | CN3: =IF('申請書（物品）'!$L$103="○","○","") | CO3: =IF('申請書（物品）'!$L$104="○","○","") | CP3: =IF('申請書（物品）'!$L$105="○","○","") | CQ3: =IF('申請書（物品）'!$L$106="○","○","") | CR3: =IF('申請書（物品）'!$L$107="○","○","") | CS3: =IF('申請書（物品）'!$L$108="○","○","") | CT3: =IF('申請書（物品）'!$L$109="○","○","") | CU3: =IF('申請書（物品）'!$L$110="○","○","") | CV3: =IF('申請書（物品）'!$L$111="○","○","") | CW3: =IF('申請書（物品）'!$L$112="○","○","") | CX3: =IF('申請書（物品）'!$L$113="○","○","") | CY3: =IF('申請書（物品）'!$X$89="○","○","") | CZ3: =IF('申請書（物品）'!$X$90="○","○","") | DA3: =IF('申請書（物品）'!$X$91="○","○","") | DB3: =IF('申請書（物品）'!$X$92="○","○","") | DC3: =IF('申請書（物品）'!$X$93="○","○","") | DD3: =IF('申請書（物品）'!$X$94="○","○","") | DE3: =IF('申請書（物品）'!$X$95="○","○","") | DF3: =IF('申請書（物品）'!$X$96="○","○","") | DG3: =IF('申請書（物品）'!$X$97="○","○","") | DH3: =IF('申請書（物品）'!$X$98="○","○","") | DI3: =IF('申請書（物品）'!$X$99="○","○","") | DJ3: =IF('申請書（物品）'!$X$100="○","○","") | DK3: =IF('申請書（物品）'!$X$101="○","○","") | DL3: =IF('申請書（物品）'!$X$102="○","○","") | DM3: =IF('申請書（物品）'!$X$103="○","○","") | DN3: =IF('申請書（物品）'!$X$104="○","○","") | DO3: =IF('申請書（物品）'!$X$105="○","○","") | DP3: =IF('申請書（物品）'!$X$106="○","○","") | DQ3: =IF('申請書（物品）'!$X$107="○","○","") | DR3: =IF('申請書（物品）'!$X$108="○","○","") | DS3: =IF('申請書（物品）'!$X$109="○","○","") | DT3: =IF('申請書（物品）'!$X$110="○","○","") | DU3: =IF('申請書（物品）'!$X$111="○","○","") | DV3: =IF('申請書（物品）'!$X$112="○","○","")
